BEGIN:VCALENDAR
VERSION:2.0
PRODID:-//NECA-IBEW Electrical Training Center - ECPv6.15.18//NONSGML v1.0//EN
CALSCALE:GREGORIAN
METHOD:PUBLISH
X-WR-CALNAME:NECA-IBEW Electrical Training Center
X-ORIGINAL-URL:https://nietc.org
X-WR-CALDESC:Events for NECA-IBEW Electrical Training Center
REFRESH-INTERVAL;VALUE=DURATION:PT1H
X-Robots-Tag:noindex
X-PUBLISHED-TTL:PT1H
BEGIN:VTIMEZONE
TZID:America/Los_Angeles
BEGIN:DAYLIGHT
TZOFFSETFROM:-0800
TZOFFSETTO:-0700
TZNAME:PDT
DTSTART:20250309T100000
END:DAYLIGHT
BEGIN:STANDARD
TZOFFSETFROM:-0700
TZOFFSETTO:-0800
TZNAME:PST
DTSTART:20251102T090000
END:STANDARD
BEGIN:DAYLIGHT
TZOFFSETFROM:-0800
TZOFFSETTO:-0700
TZNAME:PDT
DTSTART:20260308T100000
END:DAYLIGHT
BEGIN:STANDARD
TZOFFSETFROM:-0700
TZOFFSETTO:-0800
TZNAME:PST
DTSTART:20261101T090000
END:STANDARD
BEGIN:DAYLIGHT
TZOFFSETFROM:-0800
TZOFFSETTO:-0700
TZNAME:PDT
DTSTART:20270314T100000
END:DAYLIGHT
BEGIN:STANDARD
TZOFFSETFROM:-0700
TZOFFSETTO:-0800
TZNAME:PST
DTSTART:20271107T090000
END:STANDARD
END:VTIMEZONE
BEGIN:VEVENT
DTSTART;VALUE=DATE:20260423
DTEND;VALUE=DATE:20260424
DTSTAMP:20260423T015701
CREATED:20260109T195037Z
LAST-MODIFIED:20260423T081910Z
UID:10004513-1776902400-1776988799@nietc.org
SUMMARY:Week 4 Spring
DESCRIPTION:
URL:https://nietc.org/event/week-4-spring-28/
CATEGORIES:Apprentice
END:VEVENT
BEGIN:VEVENT
DTSTART;TZID=America/Los_Angeles:20260423T163000
DTEND;TZID=America/Los_Angeles:20260423T200000
DTSTAMP:20260423T015701
CREATED:20260324T230352Z
LAST-MODIFIED:20260423T081909Z
UID:10004704-1776961800-1776974400@nietc.org
SUMMARY:Tutoring - Caleb
DESCRIPTION:
URL:https://nietc.org/event/tutoring-jonathan-11/
CATEGORIES:Apprentice
END:VEVENT
BEGIN:VEVENT
DTSTART;TZID=America/Los_Angeles:20260423T170000
DTEND;TZID=America/Los_Angeles:20260423T210000
DTSTAMP:20260423T015701
CREATED:20260213T182536Z
LAST-MODIFIED:20260423T083409Z
UID:10004692-1776963600-1776978000@nietc.org
SUMMARY:Supervisors Code & Calc
DESCRIPTION:
URL:https://nietc.org/event/supervisors-code-calc-6/
LOCATION:Tony Goff / Auditorium
CATEGORIES:Journeyman
END:VEVENT
END:VCALENDAR