BEGIN:VCALENDAR
VERSION:2.0
PRODID:-//NECA-IBEW Electrical Training Center - ECPv6.15.18//NONSGML v1.0//EN
CALSCALE:GREGORIAN
METHOD:PUBLISH
X-WR-CALNAME:NECA-IBEW Electrical Training Center
X-ORIGINAL-URL:https://nietc.org
X-WR-CALDESC:Events for NECA-IBEW Electrical Training Center
REFRESH-INTERVAL;VALUE=DURATION:PT1H
X-Robots-Tag:noindex
X-PUBLISHED-TTL:PT1H
BEGIN:VTIMEZONE
TZID:America/Los_Angeles
BEGIN:DAYLIGHT
TZOFFSETFROM:-0800
TZOFFSETTO:-0700
TZNAME:PDT
DTSTART:20230312T100000
END:DAYLIGHT
BEGIN:STANDARD
TZOFFSETFROM:-0700
TZOFFSETTO:-0800
TZNAME:PST
DTSTART:20231105T090000
END:STANDARD
BEGIN:DAYLIGHT
TZOFFSETFROM:-0800
TZOFFSETTO:-0700
TZNAME:PDT
DTSTART:20240310T100000
END:DAYLIGHT
BEGIN:STANDARD
TZOFFSETFROM:-0700
TZOFFSETTO:-0800
TZNAME:PST
DTSTART:20241103T090000
END:STANDARD
BEGIN:DAYLIGHT
TZOFFSETFROM:-0800
TZOFFSETTO:-0700
TZNAME:PDT
DTSTART:20250309T100000
END:DAYLIGHT
BEGIN:STANDARD
TZOFFSETFROM:-0700
TZOFFSETTO:-0800
TZNAME:PST
DTSTART:20251102T090000
END:STANDARD
END:VTIMEZONE
BEGIN:VEVENT
DTSTART;VALUE=DATE:20240429
DTEND;VALUE=DATE:20240430
DTSTAMP:20260421T182506
CREATED:20231006T212107Z
LAST-MODIFIED:20240429T234839Z
UID:10003085-1714348800-1714435199@nietc.org
SUMMARY:Week 6 Spring
DESCRIPTION:
URL:https://nietc.org/event/week-6-spring/
CATEGORIES:Apprentice
END:VEVENT
BEGIN:VEVENT
DTSTART;VALUE=DATE:20240426
DTEND;VALUE=DATE:20240427
DTSTAMP:20260421T182506
CREATED:20231006T212106Z
LAST-MODIFIED:20240426T224837Z
UID:10003084-1714089600-1714175999@nietc.org
SUMMARY:Week 5 Spring
DESCRIPTION:
URL:https://nietc.org/event/week-5-spring-5/
CATEGORIES:Apprentice
END:VEVENT
BEGIN:VEVENT
DTSTART;TZID=America/Los_Angeles:20240425T163000
DTEND;TZID=America/Los_Angeles:20240425T200000
DTSTAMP:20260421T182506
CREATED:20240326T193451Z
LAST-MODIFIED:20240426T021840Z
UID:10003423-1714062600-1714075200@nietc.org
SUMMARY:Tutoring -Kat
DESCRIPTION:
URL:https://nietc.org/event/tutoring-kat-5/
CATEGORIES:Apprentice
END:VEVENT
BEGIN:VEVENT
DTSTART;VALUE=DATE:20240425
DTEND;VALUE=DATE:20240426
DTSTAMP:20260421T182506
CREATED:20231006T212105Z
LAST-MODIFIED:20240425T224840Z
UID:10003082-1714003200-1714089599@nietc.org
SUMMARY:Week 5 Spring
DESCRIPTION:
URL:https://nietc.org/event/week-5-spring-3/
CATEGORIES:Apprentice
END:VEVENT
BEGIN:VEVENT
DTSTART;TZID=America/Los_Angeles:20240424T163000
DTEND;TZID=America/Los_Angeles:20240424T200000
DTSTAMP:20260421T182506
CREATED:20240326T193449Z
LAST-MODIFIED:20240425T025002Z
UID:10003422-1713976200-1713988800@nietc.org
SUMMARY:Tutoring -Cali
DESCRIPTION:
URL:https://nietc.org/event/tutoring-cali-4/
CATEGORIES:Apprentice
END:VEVENT
BEGIN:VEVENT
DTSTART;VALUE=DATE:20240424
DTEND;VALUE=DATE:20240425
DTSTAMP:20260421T182506
CREATED:20231006T212105Z
LAST-MODIFIED:20240424T230318Z
UID:10003083-1713916800-1714003199@nietc.org
SUMMARY:Week 5 Spring
DESCRIPTION:
URL:https://nietc.org/event/week-5-spring-4/
CATEGORIES:Apprentice
END:VEVENT
BEGIN:VEVENT
DTSTART;TZID=America/Los_Angeles:20240423T163000
DTEND;TZID=America/Los_Angeles:20240423T200000
DTSTAMP:20260421T182506
CREATED:20240326T193448Z
LAST-MODIFIED:20240424T022052Z
UID:10003421-1713889800-1713902400@nietc.org
SUMMARY:Tutoring -José
DESCRIPTION:
URL:https://nietc.org/event/tutoring-jose-4/
CATEGORIES:Apprentice
END:VEVENT
BEGIN:VEVENT
DTSTART;VALUE=DATE:20240423
DTEND;VALUE=DATE:20240424
DTSTAMP:20260421T182506
CREATED:20231006T212103Z
LAST-MODIFIED:20240423T233323Z
UID:10003080-1713830400-1713916799@nietc.org
SUMMARY:Week 5 Spring
DESCRIPTION:
URL:https://nietc.org/event/week-5-spring/
CATEGORIES:Apprentice
END:VEVENT
BEGIN:VEVENT
DTSTART;VALUE=DATE:20240422
DTEND;VALUE=DATE:20240423
DTSTAMP:20260421T182506
CREATED:20231006T212104Z
LAST-MODIFIED:20240422T233502Z
UID:10003081-1713744000-1713830399@nietc.org
SUMMARY:Week 5 Spring
DESCRIPTION:
URL:https://nietc.org/event/week-5-spring-2/
CATEGORIES:Apprentice
END:VEVENT
END:VCALENDAR